BEGIN:VCALENDAR
VERSION:2.0
PRODID:-//Tukios.com/
BEGIN:VEVENT
UID:7f982c0e-7386-4468-8d6a-b22a6ea6abdc@www.terrellbroadyfuneralhome.com
DTSTAMP:20260424T190710Z
DTSTART:20260502T170000Z
DTEND:20260502T180000Z
SUMMARY:Visitation
DESCRIPTION:
URL:https://www.terrellbroadyfuneralhome.com/obituaries/cynthia-kinnard-collins
LOCATION: 1300 South St  Nashville TN 37212
GEO:36.1478531;-86.7864546
END:VEVENT
END:VCALENDAR