BEGIN:VCALENDAR
VERSION:2.0
PRODID:-//Tukios.com/
BEGIN:VEVENT
UID:b5cad370-20db-4e8b-afec-8f145c4f95cb@www.terrellbroadyfuneralhome.com
DTSTAMP:20260424T191030Z
DTSTART:20260502T180000Z
DTEND:20260502T190000Z
SUMMARY:Funeral Service
DESCRIPTION:
URL:https://www.terrellbroadyfuneralhome.com/obituaries/cynthia-kinnard-collins
LOCATION: 1300 South St  Nashville TN 37212
GEO:36.1478531;-86.7864546
END:VEVENT
END:VCALENDAR