BEGIN:VCALENDAR
VERSION:2.0
PRODID:-//Tukios.com/
BEGIN:VEVENT
UID:010fc2a1-c9de-468a-a422-52ecf2980602@www.terrellbroadyfuneralhome.com
DTSTAMP:20260420T231008Z
DTSTART:20260422T170000Z
DTEND:20260422T190000Z
SUMMARY:Visitation
DESCRIPTION:
URL:https://www.terrellbroadyfuneralhome.com/obituaries/jennie-ruth-perry
LOCATION: 215 Wynn Street  Paris TN 38242
GEO:36.3008251;-88.3352606
END:VEVENT
END:VCALENDAR