BEGIN:VCALENDAR
VERSION:2.0
PRODID:-//Tukios.com/
BEGIN:VEVENT
UID:908cfea6-b4d6-4628-86fd-1ea5b3445cac@www.terrellbroadyfuneralhome.com
DTSTAMP:20260420T230818Z
DTSTART:20260422T190000Z
DTEND:20260422T200000Z
SUMMARY:Funeral Service
DESCRIPTION:
URL:https://www.terrellbroadyfuneralhome.com/obituaries/jennie-ruth-perry
LOCATION: 215 Wynn Street  Paris TN 38242
GEO:36.3008251;-88.3352606
END:VEVENT
END:VCALENDAR