BEGIN:VCALENDAR
VERSION:2.0
PRODID:-//Tukios.com/
BEGIN:VEVENT
UID:9e14eb90-f570-4349-93ff-91bcde299403@www.terrellbroadyfuneralhome.com
DTSTAMP:20260423T235534Z
DTSTART:20260424T180000Z
DTEND:20260424T220000Z
SUMMARY:Viewing
DESCRIPTION:
URL:https://www.terrellbroadyfuneralhome.com/obituaries/michael-johnson
LOCATION: 3855 Clarksville Pike  Nashville TN 37218
GEO:36.2041762;-86.8410931
END:VEVENT
END:VCALENDAR