BEGIN:VCALENDAR
VERSION:2.0
PRODID:-//Tukios.com/
BEGIN:VEVENT
UID:b8cdb4a4-895f-406f-89d8-49ae72a96cc9@www.terrellbroadyfuneralhome.com
DTSTAMP:20260423T235034Z
DTSTART:20260425T150000Z
DTEND:20260425T160000Z
SUMMARY:Visitation
DESCRIPTION:
URL:https://www.terrellbroadyfuneralhome.com/obituaries/michael-johnson
LOCATION: 1212 Tremont Ave  Nashville TN 37212
GEO:36.1442768;-86.7891142
END:VEVENT
END:VCALENDAR