BEGIN:VCALENDAR
VERSION:2.0
PRODID:-//Tukios.com/
BEGIN:VEVENT
UID:2a9e608d-cc21-431d-83a5-a1d860249326@www.terrellbroadyfuneralhome.com
DTSTAMP:20260423T235508Z
DTSTART:20260425T160000Z
DTEND:20260425T170000Z
SUMMARY:Funeral Service
DESCRIPTION:
URL:https://www.terrellbroadyfuneralhome.com/obituaries/michael-johnson
LOCATION: 1212 Tremont Ave  Nashville TN 37212
GEO:36.1442768;-86.7891142
END:VEVENT
END:VCALENDAR